BEGIN:VCALENDAR
VERSION:2.0
PRODID:-//Squarespace Inc/Squarespace 6//v6//EN
BEGIN:VEVENT
UID:5ecdc075ea708316d9a31592@squarespace.com
DTSTAMP:20200527T013058Z
DTSTART:20200527T013000Z
DTEND:20200531T023000Z
SUMMARY:Hope to see you soon
GEO:-33.838318;151.205008
LOCATION:ethica\, 12 Mount Street\, North Sydney\, NSW\, 2060\, Australia
END:VEVENT
END:VCALENDAR
