BEGIN:VCALENDAR
VERSION:2.0
PRODID:-//Squarespace Inc/Squarespace 6//v6//EN
BEGIN:VEVENT
UID:5ceb354b085229ffac0c1807@squarespace.com
DTSTAMP:20190704T025523Z
DTSTART:20190921T000000Z
DTEND:20190921T040000Z
SUMMARY:Hills Fair Trade Market
END:VEVENT
END:VCALENDAR
