BEGIN:VCALENDAR
VERSION:2.0
PRODID:-//Squarespace Inc/Squarespace 6//v6//EN
BEGIN:VEVENT
UID:5d1d635f02bc4000011adb35@squarespace.com
DTSTAMP:20190704T022917Z
DTSTART:20190705T230000Z
DTEND:20190706T050000Z
SUMMARY:Mosman Market
END:VEVENT
END:VCALENDAR
