BEGIN:VCALENDAR
VERSION:2.0
PRODID:-//Squarespace Inc/Squarespace 6//v6//EN
BEGIN:VEVENT
UID:5ce33fcbf7a916000140f852@squarespace.com
DTSTAMP:20190521T000322Z
DTSTART:20190608T223000Z
DTEND:20190609T050000Z
SUMMARY:Kirribilli Market
END:VEVENT
END:VCALENDAR
