BEGIN:VCALENDAR
VERSION:2.0
PRODID:-//Squarespace Inc/Squarespace 6//v6//EN
BEGIN:VEVENT
UID:5cd51ce98165f5688c5f51f4@squarespace.com
DTSTAMP:20190607T002237Z
DTSTART:20190626T083000Z
DTEND:20190626T113000Z
SUMMARY:Pizza and Trivia Night
END:VEVENT
END:VCALENDAR
