BEGIN:VCALENDAR
VERSION:2.0
PRODID:-//Squarespace Inc/Squarespace 6//v6//EN
BEGIN:VEVENT
UID:5ce33b6c2fb08f0001ba8a49@squarespace.com
DTSTAMP:20190521T000103Z
DTSTART:20190531T230000Z
DTEND:20190601T050000Z
SUMMARY:Mosman Market
END:VEVENT
END:VCALENDAR
