BEGIN:VCALENDAR
VERSION:2.0
PRODID:-//Squarespace Inc/Squarespace 6//v6//EN
BEGIN:VEVENT
UID:5caab85e4785d3baf213f170@squarespace.com
DTSTAMP:20190430T064811Z
DTSTART:20190503T220000Z
DTEND:20190504T050000Z
SUMMARY:Mosman Market
END:VEVENT
END:VCALENDAR
