BEGIN:VCALENDAR
VERSION:2.0
PRODID:-//Squarespace Inc/Squarespace 6//v6//EN
BEGIN:VEVENT
UID:5ce34060335e240001d81b21@squarespace.com
DTSTAMP:20190521T001522Z
DTSTART:20190525T043000Z
DTEND:20190525T063000Z
SUMMARY:Concord Fair Trade Fashion Show
END:VEVENT
END:VCALENDAR
