BEGIN:VCALENDAR
VERSION:2.0
PRODID:-//Squarespace Inc/Squarespace 6//v6//EN
BEGIN:VEVENT
UID:5cc940159b747a41c1806233@squarespace.com
DTSTAMP:20190501T065159Z
DTSTART:20190502T090000Z
DTEND:20190502T103000Z
SUMMARY:Fair Trade fashion Show and market
END:VEVENT
END:VCALENDAR
