BEGIN:VCALENDAR
VERSION:2.0
PRODID:-//Squarespace Inc/Squarespace 6//v6//EN
BEGIN:VEVENT
UID:5caab70924a694243103d0a6@squarespace.com
DTSTAMP:20190704T023840Z
DTSTART:20190510T230000Z
DTEND:20190511T050000Z
SUMMARY:Chatswood Fair Trade Market
END:VEVENT
END:VCALENDAR
