BEGIN:VCALENDAR
VERSION:2.0
PRODID:-//Squarespace Inc/Squarespace 6//v6//EN
BEGIN:VEVENT
UID:5caab9289140b7d3bdef4336@squarespace.com
DTSTAMP:20190510T064938Z
DTSTART:20190511T220000Z
DTEND:20190512T040000Z
SUMMARY:Kirribilli Market
END:VEVENT
END:VCALENDAR
