BEGIN:VCALENDAR
VERSION:2.0
PRODID:-//Squarespace Inc/Squarespace 6//v6//EN
BEGIN:VEVENT
UID:5d9ec6b4ce814b06426eca60@squarespace.com
DTSTAMP:20191010T055847Z
DTSTART:20191206T220000Z
DTEND:20191207T040000Z
SUMMARY:Mosman Market
END:VEVENT
END:VCALENDAR
