BEGIN:VCALENDAR
VERSION:2.0
PRODID:-//Squarespace Inc/Squarespace 6//v6//EN
BEGIN:VEVENT
UID:5d9ec41bce814b06426ea849@squarespace.com
DTSTAMP:20191010T055020Z
DTSTART:20191122T220000Z
DTEND:20191123T040000Z
SUMMARY:Kirribilli Market
END:VEVENT
END:VCALENDAR
