BEGIN:VCALENDAR
VERSION:2.0
PRODID:-//Squarespace Inc/Squarespace 6//v6//EN
BEGIN:VEVENT
UID:5d9eb91daae2d05ebebf9748@squarespace.com
DTSTAMP:20191010T045948Z
DTSTART:20191101T220000Z
DTEND:20191102T040000Z
SUMMARY:Mosman Market
END:VEVENT
END:VCALENDAR
