BEGIN:VCALENDAR
VERSION:2.0
PRODID:-//Squarespace Inc/Squarespace 6//v6//EN
BEGIN:VEVENT
UID:5d9ec1b91f444210caae6c44@squarespace.com
DTSTAMP:20191010T062225Z
DTSTART:20191115T220000Z
DTEND:20191116T040000Z
SUMMARY:Crows Nest Market
END:VEVENT
END:VCALENDAR
