BEGIN:VCALENDAR
VERSION:2.0
PRODID:-//Squarespace Inc/Squarespace 6//v6//EN
BEGIN:VEVENT
UID:5d9ec0038f915868c825dd3a@squarespace.com
DTSTAMP:20191022T052212Z
DTSTART:20191025T220000Z
DTEND:20191026T030000Z
SUMMARY:Balgowlah Fair Trade Market
END:VEVENT
END:VCALENDAR
