BEGIN:VCALENDAR
VERSION:2.0
PRODID:-//Squarespace Inc/Squarespace 6//v6//EN
BEGIN:VEVENT
UID:5d9ebc168704a53f90ba28de@squarespace.com
DTSTAMP:20191010T050930Z
DTSTART:20191018T230000Z
DTEND:20191019T040000Z
SUMMARY:Wyong Fairtrade Fair
END:VEVENT
END:VCALENDAR
