BEGIN:VCALENDAR
VERSION:2.0
PRODID:-//Squarespace Inc/Squarespace 6//v6//EN
BEGIN:VEVENT
UID:5d9eca838704a53f90badfcb@squarespace.com
DTSTAMP:20191211T220249Z
DTSTART:20191212T053000Z
DTEND:20191212T103000Z
SUMMARY:Twilight Mosman Market
END:VEVENT
END:VCALENDAR
