BEGIN:VCALENDAR
VERSION:2.0
PRODID:-//Squarespace Inc/Squarespace 6//v6//EN
BEGIN:VEVENT
UID:5b62985f88251bd3c4f61c71@squarespace.com
DTSTAMP:20180802T053948Z
DTSTART:20180803T230000Z
DTEND:20180804T050000Z
SUMMARY:Mosman Markets
END:VEVENT
END:VCALENDAR
