BEGIN:VCALENDAR
VERSION:2.0
PRODID:-//Squarespace Inc/Squarespace 6//v6//EN
BEGIN:VEVENT
UID:5b62992f6d2a73e7fbb837c9@squarespace.com
DTSTAMP:20180802T054030Z
DTSTART:20180804T230000Z
DTEND:20180805T050000Z
SUMMARY: Bondi Market
END:VEVENT
END:VCALENDAR
