BEGIN:VCALENDAR
VERSION:2.0
PRODID:-//Squarespace Inc/Squarespace 6//v6//EN
BEGIN:VEVENT
UID:5b519e0603ce64a35233891a@squarespace.com
DTSTAMP:20180720T083232Z
DTSTART:20180728T000000Z
DTEND:20180728T060000Z
SUMMARY:The Green Street Collective Ethical Market
END:VEVENT
END:VCALENDAR
