BEGIN:VCALENDAR
VERSION:2.0
PRODID:-//Squarespace Inc/Squarespace 6//v6//EN
BEGIN:VEVENT
UID:5b1cfb7703ce640b7ed0e42e@squarespace.com
DTSTAMP:20180610T104158Z
DTSTART:20180622T230000Z
DTEND:20180623T050000Z
SUMMARY:Kirribilli Market
END:VEVENT
END:VCALENDAR
