BEGIN:VCALENDAR
VERSION:2.0
PRODID:-//Squarespace Inc/Squarespace 6//v6//EN
BEGIN:VEVENT
UID:5b07a71b6d2a733fd78ac274@squarespace.com
DTSTAMP:20180525T061058Z
DTSTART:20180601T230000Z
DTEND:20180602T050000Z
SUMMARY:Mosman Markets
END:VEVENT
END:VCALENDAR
