BEGIN:VCALENDAR
VERSION:2.0
PRODID:-//Squarespace Inc/Squarespace 6//v6//EN
BEGIN:VEVENT
UID:5b1cfa566d2a73a4cf364aef@squarespace.com
DTSTAMP:20180610T104228Z
DTSTART:20180616T230000Z
DTEND:20180617T050000Z
SUMMARY:Bondi Market
END:VEVENT
END:VCALENDAR
