BEGIN:VCALENDAR
VERSION:2.0
PRODID:-//Squarespace Inc/Squarespace 6//v6//EN
BEGIN:VEVENT
UID:5b07a7b803ce647cacc158e9@squarespace.com
DTSTAMP:20180525T061106Z
DTSTART:20180609T230000Z
DTEND:20180610T050000Z
SUMMARY:Kirribilli Market
END:VEVENT
END:VCALENDAR
