BEGIN:VCALENDAR
VERSION:2.0
PRODID:-//Squarespace Inc/Squarespace 6//v6//EN
BEGIN:VEVENT
UID:5aaf04fa1ae6cf0c78e407ae@squarespace.com
DTSTAMP:20180319T004417Z
DTSTART:20180504T230000Z
DTEND:20180505T060000Z
SUMMARY:Manly Fair Trade Market
END:VEVENT
END:VCALENDAR
