BEGIN:VCALENDAR
VERSION:2.0
PRODID:-//Squarespace Inc/Squarespace 6//v6//EN
BEGIN:VEVENT
UID:5bdfcc06032be42558d69b26@squarespace.com
DTSTAMP:20181105T045422Z
DTSTART:20181208T213000Z
DTEND:20181209T040000Z
SUMMARY:Kirribilli Market
END:VEVENT
END:VCALENDAR
