BEGIN:VCALENDAR
VERSION:2.0
PRODID:-//Squarespace Inc/Squarespace 6//v6//EN
BEGIN:VEVENT
UID:5bdfcd5af950b7feaf55a4d3@squarespace.com
DTSTAMP:20181130T061255Z
DTSTART:20181207T040000Z
DTEND:20181207T100000Z
SUMMARY:Watsons Bay Christmas Twilight Market
END:VEVENT
END:VCALENDAR
