BEGIN:VCALENDAR
VERSION:2.0
PRODID:-//Squarespace Inc/Squarespace 6//v6//EN
BEGIN:VEVENT
UID:5bdfcec0575d1f0d1936b223@squarespace.com
DTSTAMP:20181206T014725Z
DTSTART:20181206T053000Z
DTEND:20181206T103000Z
SUMMARY:Mosman Twilight Market
END:VEVENT
END:VCALENDAR
