BEGIN:VCALENDAR
VERSION:2.0
PRODID:-//Squarespace Inc/Squarespace 6//v6//EN
BEGIN:VEVENT
UID:5bdfc8f6f950b7feaf557b92@squarespace.com
DTSTAMP:20181105T044944Z
DTSTART:20181130T210000Z
DTEND:20181201T040000Z
SUMMARY:Mosman Market
END:VEVENT
END:VCALENDAR
