BEGIN:VCALENDAR
VERSION:2.0
PRODID:-//Squarespace Inc/Squarespace 6//v6//EN
BEGIN:VEVENT
UID:5bdfd1ec88251b7ccba87b2f@squarespace.com
DTSTAMP:20181108T045516Z
DTSTART:20181130T220000Z
DTEND:20181201T040000Z
SUMMARY:Chatswood Fair Trade Market
END:VEVENT
END:VCALENDAR
