BEGIN:VCALENDAR
VERSION:2.0
PRODID:-//Squarespace Inc/Squarespace 6//v6//EN
BEGIN:VEVENT
UID:5c0f90256d2a73aee7bfff1f@squarespace.com
DTSTAMP:20181211T102354Z
DTSTART:20181215T220000Z
DTEND:20181216T030000Z
SUMMARY: That Great Market (TGM) Lindfield
END:VEVENT
END:VCALENDAR
