BEGIN:VCALENDAR
VERSION:2.0
PRODID:-//Squarespace Inc/Squarespace 6//v6//EN
BEGIN:VEVENT
UID:5bf201f61ae6cf7a695c65ba@squarespace.com
DTSTAMP:20181211T101717Z
DTSTART:20181121T213000Z
DTEND:20181122T040000Z
SUMMARY:Fair trade mini market Manly Wharf
END:VEVENT
END:VCALENDAR
