BEGIN:VCALENDAR
VERSION:2.0
PRODID:-//Squarespace Inc/Squarespace 6//v6//EN
BEGIN:VEVENT
UID:5c0f8ead40ec9ab15f9a8af1@squarespace.com
DTSTAMP:20181211T102316Z
DTSTART:20181211T223000Z
DTEND:20181212T050000Z
SUMMARY: Fair trade mini market Manly Wharf
END:VEVENT
END:VCALENDAR
