BEGIN:VCALENDAR
VERSION:2.0
PRODID:-//Squarespace Inc/Squarespace 6//v6//EN
BEGIN:VEVENT
UID:5c0f8ef2cd8366dccee7bbe4@squarespace.com
DTSTAMP:20181211T102300Z
DTSTART:20181214T220000Z
DTEND:20181215T030000Z
SUMMARY: Crows Nest Market
END:VEVENT
END:VCALENDAR
