BEGIN:VCALENDAR
VERSION:2.0
PRODID:-//Squarespace Inc/Squarespace 6//v6//EN
BEGIN:VEVENT
UID:5bdfc263575d1f0d1936453e@squarespace.com
DTSTAMP:20181105T041724Z
DTSTART:20181110T213000Z
DTEND:20181111T040000Z
SUMMARY:Kirribilli Markets
END:VEVENT
END:VCALENDAR
