BEGIN:VCALENDAR
VERSION:2.0
PRODID:-//Squarespace Inc/Squarespace 6//v6//EN
BEGIN:VEVENT
UID:5b971b9b8a922d559f3e11b3@squarespace.com
DTSTAMP:20180911T020743Z
DTSTART:20181020T030000Z
DTEND:20181020T070000Z
SUMMARY:Wyong Fair Trade Fair
END:VEVENT
END:VCALENDAR
