BEGIN:VCALENDAR
VERSION:2.0
PRODID:-//Squarespace Inc/Squarespace 6//v6//EN
BEGIN:VEVENT
UID:5bc40f038165f51c6af5952c@squarespace.com
DTSTAMP:20181015T042840Z
DTSTART:20181020T060000Z
DTEND:20181020T080000Z
SUMMARY:Duo Deconet Latin American Gala concert
END:VEVENT
END:VCALENDAR
