BEGIN:VCALENDAR
VERSION:2.0
PRODID:-//Squarespace Inc/Squarespace 6//v6//EN
BEGIN:VEVENT
UID:59c1ea4749fc2beaafc09cbe@squarespace.com
DTSTAMP:20171012T232150Z
DTSTART:20171123T000000Z
DTEND:20171123T020000Z
SUMMARY:ethica's Women at the Heart High Tea - with Liz Davenport OAM
GEO:-33.839184;151.205211
LOCATION:Isabel Menton Theatre\, 11 Mount Street\, North Sydney\, NSW\, 206
 0\, Australia
END:VEVENT
END:VCALENDAR
