BEGIN:VCALENDAR
VERSION:2.0
PRODID:-//Squarespace Inc/Squarespace 6//v6//EN
BEGIN:VEVENT
UID:59c1edef017db2b0cbb99de1@squarespace.com
DTSTAMP:20170921T225611Z
DTSTART:20171207T053000Z
DTEND:20171207T103000Z
SUMMARY:Mosman Twilight Christmas Market
GEO:-33.826602;151.240788
LOCATION:Mosman Square & Village Green\, Myahgah Road\, Mosman\, NSW\, 2088
 \, Australia
END:VEVENT
END:VCALENDAR
