BEGIN:VCALENDAR
VERSION:2.0
PRODID:-//Squarespace Inc/Squarespace 6//v6//EN
BEGIN:VEVENT
UID:59c1ed47cd0f685202737f39@squarespace.com
DTSTAMP:20170921T000745Z
DTSTART:20171201T220000Z
DTEND:20171202T050000Z
SUMMARY:Chatswood Fair Trade Market
GEO:-33.793892;151.190786
LOCATION:Victoria Avenue\, Chatswood\, NSW\, 2067\, Australia
END:VEVENT
END:VCALENDAR
