BEGIN:VCALENDAR
VERSION:2.0
PRODID:-//Squarespace Inc/Squarespace 6//v6//EN
BEGIN:VEVENT
UID:59c1e87cb1ffb671d917807d@squarespace.com
DTSTAMP:20170921T000453Z
DTSTART:20171105T050000Z
DTEND:20171105T090000Z
SUMMARY:Wyong Fair Trade Market
GEO:-33.275312;151.411956
LOCATION:Wyong fair trade market - Baptist Church\, 100 Alison Road\, Wyong
 \, NSW\, 2259\, Australia
END:VEVENT
END:VCALENDAR
