BEGIN:VCALENDAR
VERSION:2.0
PRODID:-//Squarespace Inc/Squarespace 6//v6//EN
BEGIN:VEVENT
UID:59c1e74449fc2beaafc080e8@squarespace.com
DTSTAMP:20190704T023109Z
DTSTART:20171103T060000Z
DTEND:20171103T090000Z
SUMMARY:Gymea Fair Trade Market
GEO:-34.028836;151.081201
LOCATION:Gymea fair trade market\, 2 Tea Gardens Avenue\, Kirrawee\, NSW\, 
 2232\, Australia
END:VEVENT
END:VCALENDAR
