BEGIN:VCALENDAR
VERSION:2.0
PRODID:-//Squarespace Inc/Squarespace 6//v6//EN
BEGIN:VEVENT
UID:5d1d64ed9a38c30001f42faf@squarespace.com
DTSTAMP:20191010T053902Z
DTSTART:20191101T220000Z
DTEND:20191102T030000Z
SUMMARY: Gymea Fair Trade Market
GEO:-34.028836;151.081201
LOCATION:Gymea fair trade market\, 2 Tea Gardens Avenue\, Kirrawee\, NSW\, 
 2232\, Australia
END:VEVENT
END:VCALENDAR
