BEGIN:VCALENDAR
VERSION:2.0
PRODID:-//Squarespace Inc/Squarespace 6//v6//EN
BEGIN:VEVENT
UID:59c1eb7b12abd9320503b5ce@squarespace.com
DTSTAMP:20170921T225026Z
DTSTART:20171124T230000Z
DTEND:20171125T060000Z
SUMMARY:Manly Fair Trade Market
GEO:-33.797995;151.286455
LOCATION:St Mathews\, The Corso\, Manly\, NSW\, 2095\, Australia
END:VEVENT
END:VCALENDAR
