BEGIN:VCALENDAR
VERSION:2.0
PRODID:-//Squarespace Inc/Squarespace 6//v6//EN
BEGIN:VEVENT
UID:59c1e984bebafbdacd5946ce@squarespace.com
DTSTAMP:20190704T023732Z
DTSTART:20171110T220000Z
DTEND:20171111T030000Z
SUMMARY:Springwood Fair Trade Market
GEO:-33.697562;150.553629
LOCATION:Springwood fair trade market - Uniting Church\, 4 Lewin Street\, S
 pringwood\, NSW\, 2777\, Australia
END:VEVENT
END:VCALENDAR
