BEGIN:VCALENDAR
VERSION:2.0
PRODID:-//Squarespace Inc/Squarespace 6//v6//EN
BEGIN:VEVENT
UID:5d1d666cae39c800013fa7b2@squarespace.com
DTSTAMP:20191025T034904Z
DTSTART:20191108T220000Z
DTEND:20191109T030000Z
SUMMARY: Springwood Fair Trade Market
GEO:-33.697562;150.553629
LOCATION:Springwood fair trade market - Uniting Church\, 4 Lewin Street\, S
 pringwood\, NSW\, 2777\, Australia
END:VEVENT
END:VCALENDAR
